BEGIN:VCALENDAR
VERSION:2.0
PRODID:-//WP EVENT Manager Ical//NONSGML Events//EN
CALSCALE:GREGORIAN
BEGIN:VTIMEZONE
TZID:Asia/Kolkata
BEGIN:STANDARD
DTSTART:19700101T000000
TZOFFSETFROM:+0530
TZOFFSETTO:+0530
END:STANDARD
END:VTIMEZONE
BEGIN:VEVENT
UID:69eb313007db3@www.biss-akademie.nrw
DTSTAMP:20260424T090032Z
DTSTART;TZID=Asia/Kolkata:20240125T150000
DTEND;TZID=Asia/Kolkata:20240125T170000
LOCATION:Karlschule, Wilhelm-Nieswandt-Allee 85, 45326 Essen
SUMMARY:Zusammenkommen – Austauschen – Vernetzen
DESCRIPTION:Im Rahmen des Netzwerktreffens an der Karlschule in Essen erhalten alle Schulen die Möglichkeit Ihre Erfahrungen in Bezug auf die Umsetzung des Lesetandems und des Lesestrategietrainings auszutauschen und mögliche Fragen zu diskutieren.
END:VEVENT
END:VCALENDAR