BEGIN:VCALENDAR
VERSION:2.0
PRODID:-//WP EVENT Manager Ical//NONSGML Events//EN
CALSCALE:GREGORIAN
BEGIN:VTIMEZONE
TZID:Asia/Kolkata
BEGIN:STANDARD
DTSTART:19700101T000000
TZOFFSETFROM:+0530
TZOFFSETTO:+0530
END:STANDARD
END:VTIMEZONE
BEGIN:VEVENT
UID:69e8cf59eebb7@www.biss-akademie.nrw
DTSTAMP:20260422T133833Z
DTSTART;TZID=Asia/Kolkata:20250226T143000
DTEND;TZID=Asia/Kolkata:20250226T160000
LOCATION:Theodor-Heuss-Realschule, Felder Str. 35, 42651 Solingen
SUMMARY:Zusammenkommen – Austauschen – Vernetzen
DESCRIPTION:Im Rahmen des Netzwerktreffens erhalten alle Transferschulen im Bergischen Land die Möglichkeit sich über die Multiplikation und Implementation des Lesetandems auszutauschen.
END:VEVENT
END:VCALENDAR