BEGIN:VCALENDAR
VERSION:2.0
PRODID:-//WP EVENT Manager Ical//NONSGML Events//EN
CALSCALE:GREGORIAN
BEGIN:VTIMEZONE
TZID:Asia/Kolkata
BEGIN:STANDARD
DTSTART:19700101T000000
TZOFFSETFROM:+0530
TZOFFSETTO:+0530
END:STANDARD
END:VTIMEZONE
BEGIN:VEVENT
UID:69eb50a1606c9@www.biss-akademie.nrw
DTSTAMP:20260424T111441Z
DTSTART;TZID=Asia/Kolkata:20241126T140000
DTEND;TZID=Asia/Kolkata:20241126T163000
LOCATION:Dechant-Wessing-Schule, Dechant-Wessing-Straße 28, Warendorf-Hoetmar
SUMMARY:Zusammenkommen – Austauschen – Vernetzen
DESCRIPTION:Im Rahmen des Netzwerktreffens an der Dechant-Wessing-Schule erhalten alle Transferschulen im Kreis Warendorf die Möglichkeit sich über die Multiplikation und Implementation des Lesetandems auszutauschen.Daneben wird als neues Angebot für das Netzwerk der Blended-Learning-Kurs „Förderung der Lesekompetenz durch Lesestrategien“ vorgestellt.
END:VEVENT
END:VCALENDAR