BEGIN:VCALENDAR
VERSION:2.0
PRODID:-//WP EVENT Manager Ical//NONSGML Events//EN
CALSCALE:GREGORIAN
BEGIN:VTIMEZONE
TZID:Asia/Kolkata
BEGIN:STANDARD
DTSTART:19700101T000000
TZOFFSETFROM:+0530
TZOFFSETTO:+0530
END:STANDARD
END:VTIMEZONE
BEGIN:VEVENT
UID:69eb2ef669f36@www.biss-akademie.nrw
DTSTAMP:20260424T085102Z
DTSTART;TZID=Asia/Kolkata:20241001T140000
DTEND;TZID=Asia/Kolkata:20241001T153000
LOCATION:Gemeinschaftsgrundschule Corneliusstraße St. Tönis, Corneliusstraße, Tönisvorst-Sankt Tönis
SUMMARY:Zusammenkommen – Austauschen – Vernetzen
DESCRIPTION:Im Rahmen des Netzwerktreffens an der GS Corneliusstr. erhalten alle Transferschulen im Kreis Viersen die Möglichkeit sich über die Multiplikation und Implementation des Lesetandems auszutauschen.Daneben wird als neues Angebot für das Netzwerk der Blended-Learning-Kurs „Förderung der Lesekompetenz durch Lesestrategien“ vorgestellt.
END:VEVENT
END:VCALENDAR