BEGIN:VCALENDAR
VERSION:2.0
PRODID:-//WP EVENT Manager Ical//NONSGML Events//EN
CALSCALE:GREGORIAN
BEGIN:VTIMEZONE
TZID:Asia/Kolkata
BEGIN:STANDARD
DTSTART:19700101T000000
TZOFFSETFROM:+0530
TZOFFSETTO:+0530
END:STANDARD
END:VTIMEZONE
BEGIN:VEVENT
UID:69e8a1064b28d@www.biss-akademie.nrw
DTSTAMP:20260422T102054Z
DTSTART;TZID=Asia/Kolkata:20251118T140000
DTEND;TZID=Asia/Kolkata:20251118T160000
LOCATION:Online
SUMMARY:Workshop zur Einführung in die BiSS-Tool-Dokumentation
DESCRIPTION:Der Workshop zur Einführung in die BiSS-Tool-Dokumentation&nbsp;stellt die Struktur der Datenbank im Detail vor und bietet eine Anleitung zur zielführenden Recherche in der Datenbank sowie grundlegende Informationen, die Interessierte dabei unterstützen, die Inhalte der Beschreibungen und Auswertungen für die Praxis einzuordnen.&nbsp;Mithilfe der Suche und der Beschreibungen lassen sich unter anderem Fragen beantworten:&nbsp;&#8211; Für welche Zwecke ist das Tool geeignet?&#8211; Für welchen sprachlichen Teilbereich (z.B. Leseverstehen, Wortschatz) ist das Tool geeignet?&#8211; Für welche Altersgruppen ist das Tool geeignet?&#8211; Wie gut ist das Tool (empirisch oder theoretisch) fundiert?&#8211; Mit welchen anderen Tools lässt es sich kombinieren?&#8211; Wie funktioniert das Tool? Was braucht man, um es nutzen zu können?&#8211; Ist das Tool kostenlos? Wo kann man es bekommen?&#8211; Welche Tools zur Lesediagnostik (oder einem anderen Bereich) finden sich in der Datenbank?Hier finden Sie das Anmeldeformular.
END:VEVENT
END:VCALENDAR