BEGIN:VCALENDAR
VERSION:2.0
PRODID:-//WP EVENT Manager Ical//NONSGML Events//EN
CALSCALE:GREGORIAN
BEGIN:VTIMEZONE
TZID:Asia/Kolkata
BEGIN:STANDARD
DTSTART:19700101T000000
TZOFFSETFROM:+0530
TZOFFSETTO:+0530
END:STANDARD
END:VTIMEZONE
BEGIN:VEVENT
UID:69e5ac0ab6150@www.biss-akademie.nrw
DTSTAMP:20260420T043106Z
DTSTART;TZID=Asia/Kolkata:20251008T143000
DTEND;TZID=Asia/Kolkata:20260204T163000
LOCATION:Online
SUMMARY:Workshop-Reihe zur Leseförderung in mehrsprachigen Klassen
DESCRIPTION:Die digitale Workshop-Reihe zur Leseförderung in mehrsprachigen Klassen beinhaltet unter anderem die Methode des mehrsprachigen reziproken Lesens, das Unterrichtsprinzip des Translanguaging sowie die praxisorientierte Begleitung für die Umsetzung im eigenen Unterricht.Die Reihe umfasst drei 120-minütige Workshops (jeweils 14.30-16:30 Uhr)am 08.10.2025 Workshop 1: Mehrsprachigkeitsorientiertes Unterrichtenam 19.11.2025 Workshop 2: Lesestrategien in mehrsprachigen Klassenam 04.02.2026 Workshop 3: Kooperative Methode des Mehrsprachigen reziproken Lesens und Anschlussaufgaben zu LesetextenDie Reihe schließt mit einer gemeinsamen Hospitation (Angaben folgen) ab.Diese Veranstaltung ist bereits ausgebucht. Wenn Sie Interesse an Leseförderung in mehrsprachigen Klassen haben, können Sie sich hier auf die Warteliste eintragen.&nbsp;
END:VEVENT
END:VCALENDAR