BEGIN:VCALENDAR
VERSION:2.0
PRODID:-//WP EVENT Manager Ical//NONSGML Events//EN
CALSCALE:GREGORIAN
BEGIN:VTIMEZONE
TZID:Asia/Kolkata
BEGIN:STANDARD
DTSTART:19700101T000000
TZOFFSETFROM:+0530
TZOFFSETTO:+0530
END:STANDARD
END:VTIMEZONE
BEGIN:VEVENT
UID:69e5e446876f1@www.biss-akademie.nrw
DTSTAMP:20260420T083102Z
DTSTART;TZID=Asia/Kolkata:20230503T083000
DTEND;TZID=Asia/Kolkata:20230503T123000
LOCATION:Schule am Park, Warbruckstraße 217, 47169 Duisburg
SUMMARY:WEGE zu einem sprachsensiblen (Mathematik)Unterricht (Hospitation und Workshop)
DESCRIPTION:Bei diesem Treffen wird Ihnen die Möglichkeit geboten, im sprachsensiblen Mathematikunterricht in der Primarstufe zu hospitieren und dadurch inspirierende Impulse für den Unterricht zu erhalten.Im anschließenden Workshop wird das zu Grunde liegende WEGE-Konzept vorgestellt und auf eine sprachsensible Unterrichtsreihe angewendet. Bereits am nächsten Tag kann das erprobte Material im eigenen sprachsensiblen Unterricht angewendet werden.Wenn Sie bisher nicht im Netzwerk mitarbeiten aber gern hospitieren würden, melden Sie sich bitte direkt bei denise.broekelschen@bra.nrw.de&nbsp;&nbsp;
END:VEVENT
END:VCALENDAR