BEGIN:VCALENDAR
VERSION:2.0
PRODID:-//WP EVENT Manager Ical//NONSGML Events//EN
CALSCALE:GREGORIAN
BEGIN:VTIMEZONE
TZID:Asia/Kolkata
BEGIN:STANDARD
DTSTART:19700101T000000
TZOFFSETFROM:+0530
TZOFFSETTO:+0530
END:STANDARD
END:VTIMEZONE
BEGIN:VEVENT
UID:69e9d7fc775c3@www.biss-akademie.nrw
DTSTAMP:20260423T082740Z
DTSTART;TZID=Asia/Kolkata:20231026T084500
DTEND;TZID=Asia/Kolkata:20231026T114500
LOCATION:GGS Böhmer Straße, Böhmer Straße 10-14, Duisburg
SUMMARY:WEGE zu einem sprachsensiblen (Mathematik-)Unterricht (Hospitation und Mini-Workshop)
DESCRIPTION:Bei diesem Treffen wird Ihnen die Möglichkeit geboten, sprachsensiblen Mathematikunterricht in der Primarstufe zu hospitieren und dadurch inspirierende Impulse für den Unterricht zu erhalten. Im anschließenden Workshop wird das zu Grunde liegende WEGE-Konzept vorgestellt und auf eine sprachsensible Unterrichtsreihe angewendet. Bereits am nächsten Tag kann das erprobte Material im eigenen sprachsensiblen Unterricht angewendet werden.
END:VEVENT
END:VCALENDAR