BEGIN:VCALENDAR
VERSION:2.0
PRODID:-//WP EVENT Manager Ical//NONSGML Events//EN
CALSCALE:GREGORIAN
BEGIN:VTIMEZONE
TZID:Asia/Kolkata
BEGIN:STANDARD
DTSTART:19700101T000000
TZOFFSETFROM:+0530
TZOFFSETTO:+0530
END:STANDARD
END:VTIMEZONE
BEGIN:VEVENT
UID:69e8b72816873@www.biss-akademie.nrw
DTSTAMP:20260422T115520Z
DTSTART;TZID=Asia/Kolkata:20251007T134500
DTEND;TZID=Asia/Kolkata:20251007T160000
LOCATION:Online
SUMMARY:Vortrags- und Informationsveranstaltung
DESCRIPTION:Die Veranstaltung wird von Herrn MR Teuber, Ministerium für Schule und Bildung NRW, Referat Startchancen eröffnet.Frau Prof’in Morek von der Universität Duisburg-Essen referiert anschließend zum Thema:&nbsp;„Gestaltung von sprachförderlichen (Unterrichts-)Gesprächen“.Sie beschreibt Umsetzungsmöglichkeiten sprachlicher Förderung und Bildung für größere Bildungserfolge und stellt praxisnahe Anregungen zur Gestaltung durchgängiger sprachlicher Bildung vor.Während der Veranstaltung haben Sie zudem die Möglichkeit, sich über die Arbeitsweise und Angebote der BiSS-Akademie NRW zu informieren. Hierbei berücksichtigen wir insbesondere die Inhalte unserer Arbeit, die im&nbsp;Internetauftritt des MSB NRW&nbsp;genannt werden.Sie können sich&nbsp;hier&nbsp;anmelden.
END:VEVENT
END:VCALENDAR