BEGIN:VCALENDAR
VERSION:2.0
PRODID:-//WP EVENT Manager Ical//NONSGML Events//EN
CALSCALE:GREGORIAN
BEGIN:VTIMEZONE
TZID:Asia/Kolkata
BEGIN:STANDARD
DTSTART:19700101T000000
TZOFFSETFROM:+0530
TZOFFSETTO:+0530
END:STANDARD
END:VTIMEZONE
BEGIN:VEVENT
UID:69eb4fc367104@www.biss-akademie.nrw
DTSTAMP:20260424T111059Z
DTSTART;TZID=Asia/Kolkata:20250326T090000
DTEND;TZID=Asia/Kolkata:20250326T120000
LOCATION:KI Duisburg Akademie für Personalentwicklung Albert-Hahn-Straße 45 47249 Duisburg
SUMMARY:Von der Vorschule zum Anfangsunterricht
DESCRIPTION:Vorschulische und schulische Basiskompetenzen im Unterricht lernen, vertiefen, versprachlichen und festigenMathematische Bildung beginnt schon im Kleinkindalter in unterschiedlichen Situationen des Alltags. Vorschulische Basiskompetenzen, auch Vorläuferfähigkeiten genannt, bilden das Fundament für ein weiteres mathematisches Verständnis.Der Workshop soll zeigen, wie vorschulische und schulische Basiskompetenzen erworben, vertieft und gefestigt werden können. Eine begleitende systematische Förderung der Bildungs- und Fachsprache im Mathematikunterricht zeigt, wie mathematische Strukturen und Strategien durchdrungen werden können.  Verschiedene Unterrichtseinstiege, Spiele und Übungen für die eigene Unterrichtspraxis werden vorgestellt und gemeinsam neue, eigene Ideen erarbeitet.
END:VEVENT
END:VCALENDAR