BEGIN:VCALENDAR
VERSION:2.0
PRODID:-//WP EVENT Manager Ical//NONSGML Events//EN
CALSCALE:GREGORIAN
BEGIN:VTIMEZONE
TZID:Asia/Kolkata
BEGIN:STANDARD
DTSTART:19700101T000000
TZOFFSETFROM:+0530
TZOFFSETTO:+0530
END:STANDARD
END:VTIMEZONE
BEGIN:VEVENT
UID:69e5e3f930398@www.biss-akademie.nrw
DTSTAMP:20260420T082945Z
DTSTART;TZID=Asia/Kolkata:20220905T120000
DTEND;TZID=Asia/Kolkata:20220905T160000
LOCATION:städt. Gemeinschaftsgrundschule, Kastellstraße, Oberhausen
SUMMARY:Von der Leseflüssigkeit zur Lesekompetenz – Erste Einarbeitung in ein Lesestrategietraining
DESCRIPTION:Ausgehend vom Lesedidaktischen Modell von Rosebrock &amp; Nix wird zunächst eine Bestandaufnahme der vorhandenen Lesefördermaßnahmen in den Klassen bzw. Jahrgängen stattfinden. Im Anschluss daran werden vier elementare Lesestrategien vorgestellt und anhand des Lesestrategieprogramms „Lesen im Leseteam“ von Munser-Kiefer/Kirschhock (2014) konkretisiert. In einer Praxisphase erhält das Kollegium die Möglichkeit sich in vier Gruppen die Lesestrategien in Theorie und Praxis anhand ausgearbeiteter Unterrichtsmaterialien zu erarbeiten.
END:VEVENT
END:VCALENDAR