BEGIN:VCALENDAR
VERSION:2.0
PRODID:-//WP EVENT Manager Ical//NONSGML Events//EN
CALSCALE:GREGORIAN
BEGIN:VTIMEZONE
TZID:Asia/Kolkata
BEGIN:STANDARD
DTSTART:19700101T000000
TZOFFSETFROM:+0530
TZOFFSETTO:+0530
END:STANDARD
END:VTIMEZONE
BEGIN:VEVENT
UID:69e8d08f95dad@www.biss-akademie.nrw
DTSTAMP:20260422T134343Z
DTSTART;TZID=Asia/Kolkata:20250312T130000
DTEND;TZID=Asia/Kolkata:20250312T153000
LOCATION:Kreisverwaltung Steinfurt, Kommunales Integrationszentrum, Tecklenburger Str. 10, 48565 Steinfurt
SUMMARY:Über Zahlen sprechen- WEGE zu einem sprachsensiblen (Mathematik-) Unterricht
DESCRIPTION:Kinder sollen im Mathematikunterricht inhalts- und prozessbezogene Kompetenzen erwerben. Sie sollen ihre mathematischen Entdeckungen mündlich beschreiben, sich gegenseitig vorstellen und sich über Strategien und Rechenwege austauschen. Das Sprechen und Schreiben über mathematische Entdeckungen hilft, mathematische Konzepte zu durchdringen, Misskonzepte zu erkennen und am mathematischen Diskurs teilzunehmen. Um dies realisieren zu können, benötigen die Schülerinnen und Schüler die Fachsprache mit ihren spezifischen Begriffen sowie hilfreichen Satzmustern.Alle Schülerinnen und Schüler sollen ausgehend von ihren individuellen sprachlichen Kompetenzen dabei unterstützt werden, das Beschreiben und Begründen mathematischer Muster und Strukturen zu erlernen.Der Workshop soll zeigen, wie eine systematische Förderung der Bildungs- und Fachsprache im Mathematikunterricht durch den Aufbau des benötigten Fachwortschatzes und durch unterstützende Übungen realisiert werden kann. Darüber hinaus wird an konkreten Unterrichtsreihen des 1. bis 5. Schuljahres die sprachfördernde Unterrichtsplanung veranschaulicht. Verschiedene Unterrichtseinstiege, Spiele und Übungen für die eigene Unterrichtspraxis werden vorgestellt und gemeinsam neue, eigene Ideen erarbeitet.
END:VEVENT
END:VCALENDAR