BEGIN:VCALENDAR
VERSION:2.0
PRODID:-//WP EVENT Manager Ical//NONSGML Events//EN
CALSCALE:GREGORIAN
BEGIN:VTIMEZONE
TZID:Asia/Kolkata
BEGIN:STANDARD
DTSTART:19700101T000000
TZOFFSETFROM:+0530
TZOFFSETTO:+0530
END:STANDARD
END:VTIMEZONE
BEGIN:VEVENT
UID:69e5f3fec2c7a@www.biss-akademie.nrw
DTSTAMP:20260420T093806Z
DTSTART;TZID=Asia/Kolkata:20250312T140000
DTEND;TZID=Asia/Kolkata:20250312T153000
LOCATION:Online
SUMMARY:Treffpunkt BiSS-Akademie: Was genau sind Basiskompetenzen und welche Bedeutung haben sie für die schulische Praxis?
DESCRIPTION:Wir laden Sie herzlich zur Fortsetzung der Veranstaltungsreihe „Treffpunkt BiSS-Akademie“ ein!Auch in diesem Jahr setzen wir auf das bewährte und erfolgreich etablierte Format: Treffpunkt BiSS-Akademie: Sprachbildung und Mehrsprachigkeit in Schule und Unterricht – Impulse aus der Praxis und für die PraxisSchwerpunkt: Basiskompetenzen – Ihre Rolle für einen sprachbildenden, teilhabefördernden Unterricht und Steuerungsprozesse für eine zielgerichtete SchulentwicklungDiese netzwerkübergreifende Reihe beleuchtet aktuelle und relevante Themen der Sprachbildung, dabei werden die mitgebrachten Sprachen der Schülerinnen und Schüler für die unterrichtliche Praxis systematisch mitgedacht.Eingeladen sind Lehrkräfte der BiSS-Akademie NRW sowie alle weiteren Interessierten aus allen Schulformen und der Bildungsadministration.Unsere Referentinnen und Referenten kommen aus Wissenschaft, Praxis und Verwaltung. In Tandemvorträgen beleuchten sie wissenschaftliche, administrative und politische Perspektiven im Zusammenspiel mit schulpraktischen Ansätzen zur Sprachbildung und Mehrsprachigkeit.Den Auftakt machen am 12.03.2025 (14:00–15:30) Frau Prof. Dr. Niederhaus von der Universität Paderborn und  Frau Dr. Tülay Altun (Gesamtschule Nord Essen und Universität Paderborn).Sie beantwortet im Tandem die Frage: „Was genau sind Basiskompetenzen und welcheBedeutung haben sie für die schulische Praxis?“ Der Fokus liegt dabei auf den Sekundarstufen I und II einschließlich des Berufskollegs.&nbsp;
END:VEVENT
END:VCALENDAR