BEGIN:VCALENDAR
VERSION:2.0
PRODID:-//WP EVENT Manager Ical//NONSGML Events//EN
CALSCALE:GREGORIAN
BEGIN:VTIMEZONE
TZID:Asia/Kolkata
BEGIN:STANDARD
DTSTART:19700101T000000
TZOFFSETFROM:+0530
TZOFFSETTO:+0530
END:STANDARD
END:VTIMEZONE
BEGIN:VEVENT
UID:69e5e35ca4492@www.biss-akademie.nrw
DTSTAMP:20260420T082708Z
DTSTART;TZID=Asia/Kolkata:20220524T130000
DTEND;TZID=Asia/Kolkata:20220524T160000
LOCATION:Sekundarschule Königsbrügge, Fritz-Reuter-Straße, Bielefeld
SUMMARY:Textverständnis in allen Fächern fördern
DESCRIPTION:Das sinnentnehmende Lesen ist eine große Herausforderung für viele Schülerinnen und Schüler – unabhängig von deren Herkunftssprache, gleichzeitig aber die Voraussetzung, um sich Inhalte selbstständig zu erarbeiten und am Unterrichtsgeschehen partizipieren zu können.In einem kurzen Vortrag werden Aspekte aufgeführt, die das Textverständnis erschweren und Möglichkeiten aufgezeigt, wie das sinnentnehmende Lesen unterstützt werden kann. Verschiedene erprobte Methoden werden vorgestellt. Anschließend planen die Teilnehmenden eine Unterrichtsstunde /-einheit unter Einbeziehung eines der Methodenwerkzeuge.
END:VEVENT
END:VCALENDAR