BEGIN:VCALENDAR
VERSION:2.0
PRODID:-//WP EVENT Manager Ical//NONSGML Events//EN
CALSCALE:GREGORIAN
BEGIN:VTIMEZONE
TZID:Asia/Kolkata
BEGIN:STANDARD
DTSTART:19700101T000000
TZOFFSETFROM:+0530
TZOFFSETTO:+0530
END:STANDARD
END:VTIMEZONE
BEGIN:VEVENT
UID:69e89f8250dc4@www.biss-akademie.nrw
DTSTAMP:20260422T101426Z
DTSTART;TZID=Asia/Kolkata:20251107T013000
DTEND;TZID=Asia/Kolkata:20251031T020000
LOCATION:Online
SUMMARY:test3
DESCRIPTION:
END:VEVENT
END:VCALENDAR