BEGIN:VCALENDAR
VERSION:2.0
PRODID:-//WP EVENT Manager Ical//NONSGML Events//EN
CALSCALE:GREGORIAN
BEGIN:VTIMEZONE
TZID:Asia/Kolkata
BEGIN:STANDARD
DTSTART:19700101T000000
TZOFFSETFROM:+0530
TZOFFSETTO:+0530
END:STANDARD
END:VTIMEZONE
BEGIN:VEVENT
UID:69e5c6325ced2@www.biss-akademie.nrw
DTSTAMP:20260420T062242Z
DTSTART;TZID=Asia/Kolkata:20260506T153000
DTEND;TZID=Asia/Kolkata:20260506T170000
LOCATION:Online
SUMMARY:Sprachsensibler Fachunterricht- DemeK im Sachunterricht (Gruppe B)
DESCRIPTION:Das DemeK-Konzept im Sachunterricht wird anhand konkreter Beispiele vorgestellt. Dabei liegt der Schwerpunkt auf dem Lesen von Sachtexten, Abbildungen und Diagrammen.Zudem werden Möglichkeiten aufgezeigt, wie Lesestrategien nach dem Scaffolding-Prinzip in den Unterricht integriert werden können.
END:VEVENT
END:VCALENDAR