BEGIN:VCALENDAR
VERSION:2.0
PRODID:-//WP EVENT Manager Ical//NONSGML Events//EN
CALSCALE:GREGORIAN
BEGIN:VTIMEZONE
TZID:Asia/Kolkata
BEGIN:STANDARD
DTSTART:19700101T000000
TZOFFSETFROM:+0530
TZOFFSETTO:+0530
END:STANDARD
END:VTIMEZONE
BEGIN:VEVENT
UID:69ecab93a10b6@www.biss-akademie.nrw
DTSTAMP:20260425T115459Z
DTSTART;TZID=Asia/Kolkata:20251211T130000
DTEND;TZID=Asia/Kolkata:20251211T163000
LOCATION:Gustav-Heinemann-Schule, Schonnebeckhöfe 58, 45309 Essen
SUMMARY:Sprache zählt! -Sprachbildung am Schulanfang
DESCRIPTION:Der Schulanfang ist mehr als ein Neubeginn: Kinder bringen vielfältige sprachliche und mathematische Erfahrungen aus ihrem Alltag und der Kita mit. Diese gilt es wahrzunehmen, aufzugreifen und weiterzuentwickeln. Da Kinder beim Eintritt in die Schule sehr unterschiedliche Erfahrungen mitbringen, spielt die gezielte Förderung dieser Fähigkeiten im Anfangsunterricht eine zentrale Rolle.Im Mittelpunkt des Kurses stehen:Sprachliche Voraussetzungen für erfolgreiches LernenDurchgängige Sprachbildung zwischen Kita und GrundschuleSprachbeobachtung und Diagnostik im SchulanfangDie Bedeutung sprachlicher Fähigkeiten für das mathematische Lernen
END:VEVENT
END:VCALENDAR