BEGIN:VCALENDAR
VERSION:2.0
PRODID:-//WP EVENT Manager Ical//NONSGML Events//EN
CALSCALE:GREGORIAN
BEGIN:VTIMEZONE
TZID:Asia/Kolkata
BEGIN:STANDARD
DTSTART:19700101T000000
TZOFFSETFROM:+0530
TZOFFSETTO:+0530
END:STANDARD
END:VTIMEZONE
BEGIN:VEVENT
UID:69e5fb43c4429@www.biss-akademie.nrw
DTSTAMP:20260420T100907Z
DTSTART;TZID=Asia/Kolkata:20251112T130000
DTEND;TZID=Asia/Kolkata:20251112T160000
LOCATION:TU Dortmund Raum: M311 im Mathetower Fakultät für Mathematik, Vogelpothsweg 87, D-44221 Dortmund
SUMMARY:Sprachbildung in/durch Stochastik – „Bedingte Wahrscheinlichkeiten – ein dicker Stein?“
DESCRIPTION:Um bedingte Wahrscheinlichkeiten verstehen und z.B. von kombinierten Wahrscheinlichkeiten sicher unterscheiden zu können, ist die zentrale Herausforderung, die zugrundeliegenden Teil-Ganzes-Beziehungen genau zu beschreiben und als Anteile an verschiedenen Ganzen zu unterscheiden. Diese sprachsensible Unterrichtseinheit ermöglicht zunächst das Durchdenken dieser Beziehungen und knüpft daran im Übergang zu Wahrscheinlichkeiten an.
END:VEVENT
END:VCALENDAR