BEGIN:VCALENDAR
VERSION:2.0
PRODID:-//WP EVENT Manager Ical//NONSGML Events//EN
CALSCALE:GREGORIAN
BEGIN:VTIMEZONE
TZID:Asia/Kolkata
BEGIN:STANDARD
DTSTART:19700101T000000
TZOFFSETFROM:+0530
TZOFFSETTO:+0530
END:STANDARD
END:VTIMEZONE
BEGIN:VEVENT
UID:69e5f38357f0e@www.biss-akademie.nrw
DTSTAMP:20260420T093603Z
DTSTART;TZID=Asia/Kolkata:20220211T150000
DTEND;TZID=Asia/Kolkata:20220211T170000
LOCATION:Online
SUMMARY:Sprachbildung im Mathematikunterricht der Sekundarstufen – Darstellungsvernetzung
DESCRIPTION:Im Rahmen des Workshops erhalten die Teilnehmenden Einblick in das Prinzip Darstellungsvernetzung zur integrierten Vorstellungs- und Sprachförderung. Die Vernetzung von verschiedenen Darstellungsebenen gilt als zentrales didaktisches Prinzip sowohl zum Ausbau mentaler Konstrukte von abstrakten Begriffen (Verstehensorientierung/Grundvorstellungen) als auch zur Sprachbildung. An konkreten Beispielen werden Vernetzungsaktivitäten erarbeitet und vorgestellt, die im eigenen Unterricht eingesetzt werden können.
END:VEVENT
END:VCALENDAR