BEGIN:VCALENDAR
VERSION:2.0
PRODID:-//WP EVENT Manager Ical//NONSGML Events//EN
CALSCALE:GREGORIAN
BEGIN:VTIMEZONE
TZID:Asia/Kolkata
BEGIN:STANDARD
DTSTART:19700101T000000
TZOFFSETFROM:+0530
TZOFFSETTO:+0530
END:STANDARD
END:VTIMEZONE
BEGIN:VEVENT
UID:69e8895f8be4d@www.biss-akademie.nrw
DTSTAMP:20260422T083959Z
DTSTART;TZID=Asia/Kolkata:20211201T140000
DTEND;TZID=Asia/Kolkata:20211201T170000
LOCATION:Städt. Heisenberg-Gymnasium, Preußische Straße, Dortmund
SUMMARY:Sprachbildender Mathematikunterricht: Baustein 2: Gestufte Sprachschatzarbeit in der Unterrichtsplanung
DESCRIPTION:Wo immer konzeptuelles Verständnis für mathematische Konzepte aufgebaut werden soll, steht auch sprachliches Lernen im Fokus. Das sprachliche Lernen im Sinne gestufter Sprachschatzarbeit muss somit auch auf die Planung der mittel- und längerfristigen Unterrichtszusammenhänge ausgeweitet werden.&nbsp;
END:VEVENT
END:VCALENDAR