BEGIN:VCALENDAR
VERSION:2.0
PRODID:-//WP EVENT Manager Ical//NONSGML Events//EN
CALSCALE:GREGORIAN
BEGIN:VTIMEZONE
TZID:Asia/Kolkata
BEGIN:STANDARD
DTSTART:19700101T000000
TZOFFSETFROM:+0530
TZOFFSETTO:+0530
END:STANDARD
END:VTIMEZONE
BEGIN:VEVENT
UID:69e8a34d1a316@www.biss-akademie.nrw
DTSTAMP:20260422T103037Z
DTSTART;TZID=Asia/Kolkata:20211215T130000
DTEND;TZID=Asia/Kolkata:20211215T160000
LOCATION:Josef-Albers-Gymnasium Bottrop, Zeppelinstraße, Bottrop
SUMMARY:Sprachbildender Mathematikunterricht Baustein 1: Einführung in Hintergründe und Ansätze
DESCRIPTION:Die Einführung in Hintergründe und Ansätze zur Sprachbildung im Mathematikunterricht erfordert einige Konzepte und Selbsterfahrungen, um fachlich relevante sprachliche Anforderungen identifizieren zu können. Auf dieser Basis können erste Ansätze für sprach- und fachintegrierten Unterricht angeboten werden, die in den folgenden Bausteinen vertieft werden:&#8211; Sprachhandlungen und Sprachmittel im Fach identifizieren&#8211; Sprache einfordern, z.B. durch Darstellungsvernetzung&#8211; Sprache unterstützen, z.B. mit strukturierten Sprachspeichern
END:VEVENT
END:VCALENDAR