BEGIN:VCALENDAR
VERSION:2.0
PRODID:-//WP EVENT Manager Ical//NONSGML Events//EN
CALSCALE:GREGORIAN
BEGIN:VTIMEZONE
TZID:Asia/Kolkata
BEGIN:STANDARD
DTSTART:19700101T000000
TZOFFSETFROM:+0530
TZOFFSETTO:+0530
END:STANDARD
END:VTIMEZONE
BEGIN:VEVENT
UID:69eb5065ad92c@www.biss-akademie.nrw
DTSTAMP:20260424T111341Z
DTSTART;TZID=Asia/Kolkata:20220608T100000
DTEND;TZID=Asia/Kolkata:20220608T110000
LOCATION:Es wird ergänzt...
SUMMARY:Schreiben im Fachunterricht (unter Berücksichtigung neu Zugewanderter)
DESCRIPTION:Schreiben im Fachunterricht stellt eine hohe Anforderung an Lernende dar, dies gilt insbesondere für Schülerinnen und Schüler, die Deutsch erst seit Kurzem lernen. Im Rahmen des Workshops soll geklärt werden, was das Schreiben im Fachunterricht so anforderungsreich macht, und Möglichkeiten aufgezeigt werden, wie man Lernende beim Schreiben unterstützen kann.Das Datum und die Zeit des Angebots werden noch spezifiziert.&nbsp;
END:VEVENT
END:VCALENDAR