BEGIN:VCALENDAR
VERSION:2.0
PRODID:-//WP EVENT Manager Ical//NONSGML Events//EN
CALSCALE:GREGORIAN
BEGIN:VTIMEZONE
TZID:Asia/Kolkata
BEGIN:STANDARD
DTSTART:19700101T000000
TZOFFSETFROM:+0530
TZOFFSETTO:+0530
END:STANDARD
END:VTIMEZONE
BEGIN:VEVENT
UID:69e5f3d6a4459@www.biss-akademie.nrw
DTSTAMP:20260420T093726Z
DTSTART;TZID=Asia/Kolkata:20220323T130000
DTEND;TZID=Asia/Kolkata:20220323T143000
LOCATION:Angabe folgt
SUMMARY:Reflexion und Austausch über die DemeK-Unterstützungsangebote 1-3 (Artikelsensibilisierung, Sprachrunden, Generatives Schreiben)
DESCRIPTION:In dieser Reflexions- und Austauschrunde erhalten die Teilnehmenden die Möglichkeit, ihre Erprobungen und Erfahrungen zur Artikelsensibilisierung, zu den Sprachrunden und zum Generativen Schreiben zu besprechen. Ein Hauptaugenmerk liegt dabei darauf, dass die Teilnehmenden &#8211; auch mithilfe der zahlreichen zur Verfügung gestellten DemeK-Materialien &#8211; gegenseitig von den erprobten Beispielen profitieren und einen großen Fundus an Ideen usw. für ihren Unterricht erhalten.&nbsp;&nbsp;
END:VEVENT
END:VCALENDAR