BEGIN:VCALENDAR
VERSION:2.0
PRODID:-//WP EVENT Manager Ical//NONSGML Events//EN
CALSCALE:GREGORIAN
BEGIN:VTIMEZONE
TZID:Asia/Kolkata
BEGIN:STANDARD
DTSTART:19700101T000000
TZOFFSETFROM:+0530
TZOFFSETTO:+0530
END:STANDARD
END:VTIMEZONE
BEGIN:VEVENT
UID:69e5f65fcf814@www.biss-akademie.nrw
DTSTAMP:20260420T094815Z
DTSTART;TZID=Asia/Kolkata:20260311T153000
DTEND;TZID=Asia/Kolkata:20260311T170000
LOCATION:Online
SUMMARY:Prinzipien des DemeK-Konzeptes Einführung in das Generative Schreiben (Gruppe B)
DESCRIPTION:In diesem Baustein des DemeK-Konzeptes dienen Satz- und/oder Textstrukturen poetischer oder literarischer Sprache als Grundlage für sprachliches Handeln.Durch den gelenkten Austausch und das anschließende Erarbeiten und Einbringen individueller Inhalte werden die grammatischen Phänomene und Satzstrukturen von den Schülerinnen und Schülern übernommen. Gleichzeitig generieren sie eine authentisch, sinnstiftende Eigenproduktion.&nbsp;
END:VEVENT
END:VCALENDAR