BEGIN:VCALENDAR
VERSION:2.0
PRODID:-//WP EVENT Manager Ical//NONSGML Events//EN
CALSCALE:GREGORIAN
BEGIN:VTIMEZONE
TZID:Asia/Kolkata
BEGIN:STANDARD
DTSTART:19700101T000000
TZOFFSETFROM:+0530
TZOFFSETTO:+0530
END:STANDARD
END:VTIMEZONE
BEGIN:VEVENT
UID:69e8a3d0a42f5@www.biss-akademie.nrw
DTSTAMP:20260422T103248Z
DTSTART;TZID=Asia/Kolkata:20241120T153000
DTEND;TZID=Asia/Kolkata:20241120T170000
LOCATION:Online
SUMMARY:Prinzipien des DemeK-Konzeptes: Die Sprachrunden (Gruppe B)
DESCRIPTION:Ein weiterer unverzichtbarer Baustein des DemeK-Konzeptes sind die Sprachrunden.Durch die Anwendung von Sprachrunden werden gezielt die Automatisierung von grammatischen Informationen oder besondere bildungssprachliche Ausdrücke eingeübt.
END:VEVENT
END:VCALENDAR