BEGIN:VCALENDAR
VERSION:2.0
PRODID:-//WP EVENT Manager Ical//NONSGML Events//EN
CALSCALE:GREGORIAN
BEGIN:VTIMEZONE
TZID:Asia/Kolkata
BEGIN:STANDARD
DTSTART:19700101T000000
TZOFFSETFROM:+0530
TZOFFSETTO:+0530
END:STANDARD
END:VTIMEZONE
BEGIN:VEVENT
UID:69e6264923993@www.biss-akademie.nrw
DTSTAMP:20260420T131241Z
DTSTART;TZID=Asia/Kolkata:20241120T130000
DTEND;TZID=Asia/Kolkata:20241120T143000
LOCATION:Online
SUMMARY:Prinzipien des DemeK-Konzeptes: Die Sprachrunden (Gruppe A)
DESCRIPTION:Ein weiterer unverzichtbarer Baustein des DemeK-Konzeptes sind die Sprachrunden.Durch die Anwendung von Sprachrunden werden gezielt die Automatisierung von grammatischen Informationen oder besondere bildungssprachliche Ausdrücke eingeübt.
END:VEVENT
END:VCALENDAR