BEGIN:VCALENDAR
VERSION:2.0
PRODID:-//WP EVENT Manager Ical//NONSGML Events//EN
CALSCALE:GREGORIAN
BEGIN:VTIMEZONE
TZID:Asia/Kolkata
BEGIN:STANDARD
DTSTART:19700101T000000
TZOFFSETFROM:+0530
TZOFFSETTO:+0530
END:STANDARD
END:VTIMEZONE
BEGIN:VEVENT
UID:69e5f68550f45@www.biss-akademie.nrw
DTSTAMP:20260420T094853Z
DTSTART;TZID=Asia/Kolkata:20241030T153000
DTEND;TZID=Asia/Kolkata:20241030T170000
LOCATION:Online
SUMMARY:Prinzipien des DemeK-Konzeptes: Die Artikelsensibilisierung (Gruppe B)
DESCRIPTION:Der Start in das DemeK–Konzept erfolgt auf Grundlage der Artikelsensibilisierung.Anhand von Theorie und Praxis wird die Arbeit mit den bestimmten und unbestimmten Artikeln im Unterricht vorgestellt.Schlagworte hierzu sind: Grammatikplakate, Wortsammlungen, Farbkonzept, Formenkonzept, visuelle Veranschaulichung
END:VEVENT
END:VCALENDAR