BEGIN:VCALENDAR
VERSION:2.0
PRODID:-//WP EVENT Manager Ical//NONSGML Events//EN
CALSCALE:GREGORIAN
BEGIN:VTIMEZONE
TZID:Asia/Kolkata
BEGIN:STANDARD
DTSTART:19700101T000000
TZOFFSETFROM:+0530
TZOFFSETTO:+0530
END:STANDARD
END:VTIMEZONE
BEGIN:VEVENT
UID:69e5d9bd23bb2@www.biss-akademie.nrw
DTSTAMP:20260420T074605Z
DTSTART;TZID=Asia/Kolkata:20260415T140000
DTEND;TZID=Asia/Kolkata:20260415T160000
LOCATION:Online
SUMMARY:Netzwerktreffen Alphabetisierung “kollegiale Fallberatung &amp; Austausch”
DESCRIPTION:In diesem Netzwerktreffen wird Raum geschaffen für die kollegiale Fallberatung als effizientem und ressourcenschonenden Prozess im Austausch rund um die Alphabetisierung im Unterricht mit neu zugewanderten Lernenden. Mit dem Erfahrungswissen der Teilnehmenden und anhand klarer Gesprächsstrukturen werden Lösungsmöglichkeiten aufgezeigt für konkrete Herausforderungen in der beruflichen Praxis &#8211; von praktischen Fragen bis zu Problemen des Berufsalltags.
END:VEVENT
END:VCALENDAR