BEGIN:VCALENDAR
VERSION:2.0
PRODID:-//WP EVENT Manager Ical//NONSGML Events//EN
CALSCALE:GREGORIAN
BEGIN:VTIMEZONE
TZID:Asia/Kolkata
BEGIN:STANDARD
DTSTART:19700101T000000
TZOFFSETFROM:+0530
TZOFFSETTO:+0530
END:STANDARD
END:VTIMEZONE
BEGIN:VEVENT
UID:69eb2efb96312@www.biss-akademie.nrw
DTSTAMP:20260424T085107Z
DTSTART;TZID=Asia/Kolkata:20211215T150000
DTEND;TZID=Asia/Kolkata:20211215T170000
LOCATION:Online
SUMMARY:Netzwerktreffen der Netzwerke 3.1 und 3.2
DESCRIPTION:Bei dem Netzwerktreffen werden aktuelle Informationen zum Stand der Netzwerkarbeit in den beteiligten Schulen ausgetauscht und die weitere gemeinsame Arbeit geplant. Ein zusätzlicher inhaltlicher Schwerpunkt ist die Frage, wie das eigene Kollegium für die Thematik des sprachsensiblen Unterrichts sensibilisiert werden kann. Dazu wird es einen kleinen Workshop geben.&nbsp;
END:VEVENT
END:VCALENDAR