BEGIN:VCALENDAR
VERSION:2.0
PRODID:-//WP EVENT Manager Ical//NONSGML Events//EN
CALSCALE:GREGORIAN
BEGIN:VTIMEZONE
TZID:Asia/Kolkata
BEGIN:STANDARD
DTSTART:19700101T000000
TZOFFSETFROM:+0530
TZOFFSETTO:+0530
END:STANDARD
END:VTIMEZONE
BEGIN:VEVENT
UID:69e8a13a573f9@www.biss-akademie.nrw
DTSTAMP:20260422T102146Z
DTSTART;TZID=Asia/Kolkata:20250220T130000
DTEND;TZID=Asia/Kolkata:20250220T160000
LOCATION:Landesbehördenhaus, Ruhrallee 1-3, Dortmund-Innenstadt-West, Raum 442
SUMMARY:Netzwerktreffen Alphabetisierung
DESCRIPTION:Der Schwerpunkt der Veranstaltung liegt auf der Einführung in den BiSS-Blended Learning Kurs „Alphabetisierung“, der sowohl fachliches Hintergrundwissen als auch Anregungen für die Unterrichtspraxis bietet. Außerdem lernen Sie die Kolleginnen der BiSS-Akademie NRW kennen, die Sie durch die weitere Zusammenarbeit im Netzwerk „Alphabetisierung“ begleiten werden. Die Kolleginnen bringen eigene Erfahrungen aus der Grundschule, der weiterführenden Schule und dem Berufskolleg in die Netzwerkarbeit ein.&nbsp;
END:VEVENT
END:VCALENDAR