BEGIN:VCALENDAR
VERSION:2.0
PRODID:-//WP EVENT Manager Ical//NONSGML Events//EN
CALSCALE:GREGORIAN
BEGIN:VTIMEZONE
TZID:Asia/Kolkata
BEGIN:STANDARD
DTSTART:19700101T000000
TZOFFSETFROM:+0530
TZOFFSETTO:+0530
END:STANDARD
END:VTIMEZONE
BEGIN:VEVENT
UID:69eb5237d5010@www.biss-akademie.nrw
DTSTAMP:20260424T112127Z
DTSTART;TZID=Asia/Kolkata:20251001T140000
DTEND;TZID=Asia/Kolkata:20251001T160000
LOCATION:Online
SUMMARY:Netzwerktreffen Alphabetisierung, Technische Tools
DESCRIPTION:Wir beschäftigen uns während des Netzwerktreffens mit:Welche Technik-Tools werden im Blended-Learning-Kurs nicht erwähnt?Technische Unterstützungsmittel (Tablets &amp; Lernapps, Diktier- und Hörstifte, Übersetzungs-Apps, Diktier- und Transkribierfunktionen in Word) und einem Hinweis einer Teilnehmerin zu Chrome Add-On &#8220;Plastischer Reader&#8221;
END:VEVENT
END:VCALENDAR