BEGIN:VCALENDAR
VERSION:2.0
PRODID:-//WP EVENT Manager Ical//NONSGML Events//EN
CALSCALE:GREGORIAN
BEGIN:VTIMEZONE
TZID:Asia/Kolkata
BEGIN:STANDARD
DTSTART:19700101T000000
TZOFFSETFROM:+0530
TZOFFSETTO:+0530
END:STANDARD
END:VTIMEZONE
BEGIN:VEVENT
UID:69e5e35cecba7@www.biss-akademie.nrw
DTSTAMP:20260420T082708Z
DTSTART;TZID=Asia/Kolkata:20220601T090000
DTEND;TZID=Asia/Kolkata:20220601T150000
LOCATION:MWBK - Max-Weber-Berufskolleg, Suitbertusstraße 163-165, 40223 Düsseldorf
SUMMARY:Netzwerktreffen 3.1 und 3.2
DESCRIPTION:Wir werden an unser letztes Netzwerktreffen anknüpfen und uns mit konkreten Ansätzen für Umsetzungsmöglichkeiten des sprachsensiblen Unterrichts und zur Sensibilisierung des eigenen Kollegiums beschäftigen. Außerdem soll der persönliche Austausch zwischen Transferlehrkräften verschiedener Schulen im Mittelpunkt stehen.
END:VEVENT
END:VCALENDAR