BEGIN:VCALENDAR
VERSION:2.0
PRODID:-//WP EVENT Manager Ical//NONSGML Events//EN
CALSCALE:GREGORIAN
BEGIN:VTIMEZONE
TZID:Asia/Kolkata
BEGIN:STANDARD
DTSTART:19700101T000000
TZOFFSETFROM:+0530
TZOFFSETTO:+0530
END:STANDARD
END:VTIMEZONE
BEGIN:VEVENT
UID:69eb2ef1ac7a0@www.biss-akademie.nrw
DTSTAMP:20260424T085057Z
DTSTART;TZID=Asia/Kolkata:20231214T150000
DTEND;TZID=Asia/Kolkata:20231214T170000
LOCATION:Online
SUMMARY:Netzwerktreffen 3.1 und 3.2, 14.12.23
DESCRIPTION:Beim letzten Netzwerktreffen vor den Sommerferien haben sich Projektgruppen gebildet, die in Zukunft gemeinsam an einem Thema des sprachsensiblen Unterrichts arbeiten möchten. Daran werden wir nun anschließen und das weitere Vorgehen gemeinsam planen. Der persönliche Austausch zwischen Transferlehrkräften verschiedener Schulen steht dabei im Mittelpunkt. Für alle, die beim letzten Treffen nicht dabei waren, besteht die Möglichkeit, sich einer Gruppe anzuschließen oder weitere Gruppen zu gründen.
END:VEVENT
END:VCALENDAR