BEGIN:VCALENDAR
VERSION:2.0
PRODID:-//WP EVENT Manager Ical//NONSGML Events//EN
CALSCALE:GREGORIAN
BEGIN:VTIMEZONE
TZID:Asia/Kolkata
BEGIN:STANDARD
DTSTART:19700101T000000
TZOFFSETFROM:+0530
TZOFFSETTO:+0530
END:STANDARD
END:VTIMEZONE
BEGIN:VEVENT
UID:69e8b4565dfc2@www.biss-akademie.nrw
DTSTAMP:20260422T114318Z
DTSTART;TZID=Asia/Kolkata:20250313T090000
DTEND;TZID=Asia/Kolkata:20250313T150000
LOCATION:Gesamtschule Osterfeld, Heinestraße 22, Oberhausen
SUMMARY:Netzwerktreffen 1.1 und 2.1
DESCRIPTION:Das Netzwerktreffen bietet den Teilnehmenden die Gelegenheit, sich mit Lehrkräften anderer Netzwerkschulen über ihre Arbeit im Bereich der Durchgängigen Sprachbildung auszutauschen. Im Fokus steht dabei die Konzeption der Förderung in den Fächern Deutsch und Mathematik.Teilnehmende Schulen erhalten darüber hinaus Einblick in implementierte Konzepte und Good-Practice-Beispiele zum sprachsensiblen Fachunterricht auch anderer Fächer aus anderen Netzwerkschulen.Außerdem werden neue fachspezifische Aufbauangebote des Netzwerks vorgestellt.
END:VEVENT
END:VCALENDAR