BEGIN:VCALENDAR
VERSION:2.0
PRODID:-//WP EVENT Manager Ical//NONSGML Events//EN
CALSCALE:GREGORIAN
BEGIN:VTIMEZONE
TZID:Asia/Kolkata
BEGIN:STANDARD
DTSTART:19700101T000000
TZOFFSETFROM:+0530
TZOFFSETTO:+0530
END:STANDARD
END:VTIMEZONE
BEGIN:VEVENT
UID:69e5f3fb2bef9@www.biss-akademie.nrw
DTSTAMP:20260420T093803Z
DTSTART;TZID=Asia/Kolkata:20210916T100000
DTEND;TZID=Asia/Kolkata:20210916T140000
LOCATION:Online
SUMMARY:Netzwerktreffen 1.1 mit einem Vortrag zum sprachsensiblen Mathematikunterricht: Grundlagen
DESCRIPTION:Der Vortrag bietet eine Einführung in die vielfältigen fachspezifischen sprachlichen Herausforderungen – jenseits des Fachwortschatzes – und stellt anhand von Beispielen Ansätze zur Förderung des sprachlichen Lernens im Fach Mathematik vor.&nbsp;
END:VEVENT
END:VCALENDAR