BEGIN:VCALENDAR
VERSION:2.0
PRODID:-//WP EVENT Manager Ical//NONSGML Events//EN
CALSCALE:GREGORIAN
BEGIN:VTIMEZONE
TZID:Asia/Kolkata
BEGIN:STANDARD
DTSTART:19700101T000000
TZOFFSETFROM:+0530
TZOFFSETTO:+0530
END:STANDARD
END:VTIMEZONE
BEGIN:VEVENT
UID:69eb479b33810@www.biss-akademie.nrw
DTSTAMP:20260424T103611Z
DTSTART;TZID=Asia/Kolkata:20250319T150000
DTEND;TZID=Asia/Kolkata:20250319T163000
LOCATION:Mercator Institut, Innere Kanalstraße 17, Köln, Raum 3.12
SUMMARY:Leseförderung in mehrsprachigen Klassen – Arbeitskreis
DESCRIPTION:Anschließend an die Workshops und Hospitation in Netzwerk 9.1 zur Mehrsprachigkeitssensibilisierung, zur Anwendung von Lesestrategien in mehrsprachigen Kontexten und zur Vermittlung der Methode des Mehrsprachigen Reziproken Lesens setzt sich die Arbeit im Netzwerk 9.2 in Form eines Arbeitskreises fort.Unser Ziel ist es, mehrsprachige Schülerinnen und Schüler bei der Entwicklung der Lesekompetenz zu unterstützen.Dafür bieten wir den Lehrkräften ein Netzwerk aus Schulen, die gemeinsam Methoden der mehrsprachigen Lesekompetenz (weiter-)entwickeln und die an einem mehrsprachigkeitsorientierten Unterricht interessiert sind.Den Schwerpunkt stellt ein kollegialer Austausch über die Umsetzung verschiedener mehrsprachigkeitsorientierter Unterrichtsmethoden in sprachlich heterogenen Lerngruppen dar.In dieser Sitzung soll ein Austausch über die Umsetzung der Methode des mehrsprachigen reziproken Lesens an den einzelnen Netzwerkschulen stattfinden. Zudem geht es um einen Erfahrungsaustausch zum neu entwickelten Lese-Spiel und die Weiterentwicklung des dazu passenden Erklärvideos. Darüber hinaus wird überlegt, wie die Methode in schulinterne Konzepte verankert werden kann.
END:VEVENT
END:VCALENDAR