BEGIN:VCALENDAR
VERSION:2.0
PRODID:-//WP EVENT Manager Ical//NONSGML Events//EN
CALSCALE:GREGORIAN
BEGIN:VTIMEZONE
TZID:Asia/Kolkata
BEGIN:STANDARD
DTSTART:19700101T000000
TZOFFSETFROM:+0530
TZOFFSETTO:+0530
END:STANDARD
END:VTIMEZONE
BEGIN:VEVENT
UID:69e88947b4cd0@www.biss-akademie.nrw
DTSTAMP:20260422T083935Z
DTSTART;TZID=Asia/Kolkata:20241120T150000
DTEND;TZID=Asia/Kolkata:20241120T163000
LOCATION:Raum 3.16 im MERCATOR-Institut der Universität zu Köln, Innere Kanalstraße 15, 50823 Köln (Eingang Weinsbergstr.)
SUMMARY:Leseförderung in mehrsprachigen Klassen – Arbeitskreis
DESCRIPTION:Anschließend an die Workshops und Hospitation in Netzwerk 9.1 zur Mehrsprachigkeitssensibilisierung, zur Anwendung von Lesestrategien in mehrsprachigen Kontexten und zur Vermittlung der Methode des Mehrsprachigen Reziproken Lesens setzt sich die Arbeit im Netzwerk 9.2 in Form eines Arbeitskreises fort.Unser Ziel ist es, mehrsprachige Schüler_innen bei der Entwicklung der Lesekompetenz zu unterstützen.Dafür bieten wir den Lehrkräften ein Netzwerk aus Schulen, das gemeinsam Methoden der mehrsprachigen Lesekompetenz (weiter-)entwickeln und die an einem mehrsprachigkeitsorientierten Unterricht interessiert sind.Den Schwerpunkt stellt ein kollegialer Austausch über die Umsetzung verschiedener mehrsprachigkeitsorientierter Unterrichtsmethoden und die Didaktisierung in sprachlich heterogenen Lerngruppen dar. Verschiedene didaktische Überlegungen, Herangehensweisen und Ideen werden offen diskutiert und gesammelt. Die bereits im Netzwerk entwickelten Materialien werden ausgetauscht und motivationsfördernd weiterentwickelt sowie für digitale Medien nutzbar gemacht.
END:VEVENT
END:VCALENDAR