BEGIN:VCALENDAR
VERSION:2.0
PRODID:-//WP EVENT Manager Ical//NONSGML Events//EN
CALSCALE:GREGORIAN
BEGIN:VTIMEZONE
TZID:Asia/Kolkata
BEGIN:STANDARD
DTSTART:19700101T000000
TZOFFSETFROM:+0530
TZOFFSETTO:+0530
END:STANDARD
END:VTIMEZONE
BEGIN:VEVENT
UID:69e8c865088bb@www.biss-akademie.nrw
DTSTAMP:20260422T130853Z
DTSTART;TZID=Asia/Kolkata:20240605T160000
DTEND;TZID=Asia/Kolkata:20240605T180000
LOCATION:Online
SUMMARY:Leseförderung in mehrsprachigen Klassen – Arbeitskreis
DESCRIPTION:Anschließend an die Workshops und Hospitation in Netzwerk 9.1 zur Mehrsprachigkeitssensibilisierung, zur Anwendung von Lesestrategien in mehrsprachigen Kontexten und zur Vermittlung der Methode des Mehrsprachigen Reziproken Lesens setzt sich die Arbeit im Netzwerk 9.2 in Form eines Arbeitskreises fort.Um mehrsprachige Schüler:innen bei der Entwicklung der Lesekompetenz zu unterstützen haben wir zuletzt unsere Lesestrategien des mehrsprachigen reziproken Lesens in ein Spiel eingebaut, das unsere Schulen seit November im Unterricht erproben.In dieser Arbeitskreissitzung möchten wir nun das entwickelte Spiel so aufbereiten, dass es eine endgültige Version gibt, die überall einsatzfähig ist.Darüber hinaus werden wir uns weiterhin kollegial über die Umsetzung verschiedener mehrsprachigkeitsorientierter Unterrichtsmethoden in sprachlich heterogenen Lerngruppen austauschen.
END:VEVENT
END:VCALENDAR