BEGIN:VCALENDAR
VERSION:2.0
PRODID:-//WP EVENT Manager Ical//NONSGML Events//EN
CALSCALE:GREGORIAN
BEGIN:VTIMEZONE
TZID:Asia/Kolkata
BEGIN:STANDARD
DTSTART:19700101T000000
TZOFFSETFROM:+0530
TZOFFSETTO:+0530
END:STANDARD
END:VTIMEZONE
BEGIN:VEVENT
UID:69e5d9b691361@www.biss-akademie.nrw
DTSTAMP:20260420T074558Z
DTSTART;TZID=Asia/Kolkata:20250129T143000
DTEND;TZID=Asia/Kolkata:20250129T163000
LOCATION:Online
SUMMARY:Leseförderung in mehrsprachigen Klassen
DESCRIPTION:Unser Ziel ist es mehrsprachige Schülerinnen und Schüler an Grundschulen bei der Entwicklung der Lesekompetenz zu unterstützen. Dafür bieten wir Ihnen als Lehrkräfte ein Unterstützungsangebot zu Methoden der mehrsprachigen Lesekompetenz an und möchten ein Netzwerk aus Schulen etablieren, die an einem mehrsprachigkeitsorientierten Unterricht interessiert sind.Workshop: Lesestrategien in mehrsprachigen KlassenSprachliche Herausforderungen in Lesetexten werden erläutert und die Analyse wird erprobt. Der Schwerpunkt des Verbundes liegt auf der Umsetzung von Lesestrategien in mehrsprachigem Kontext. Die Lesestrategien und die mehrsprachige Nutzung sowie vorhandene mehrsprachige Materialien zu den einzelnen Strategien werden vorgestellt. Videobeispiele aus Unterrichtseinheiten zur Umsetzung werden reflektiert. Wer sind wir?Vier Schulen aus dem Regierungsbezirk Köln erarbeiteten zusammen mit dem Mercator-Institut auf Basis von Erfahrungen aus der Praxis und empirischen Studien aus der Wissenschaft die Methode des Mehrsprachigen Reziproken Lesens, die in der Verbundarbeit von 2013-2019 stetig weiterentwickelt wurden. Während dieser Zeit wurden die Lesefertigkeiten der Schülerinnen und Schüler jährlich empirisch erhoben. Nach der erfolgreichen Entwicklung, Implementation und Evaluation der Methode in BiSS I (2013 bis 2019) bieten wir seit 2020 im Rahmen vom BiSS-Transfer die Weitergabe unserer Erfahrungen in dem Transfernetzwerk Leseförderung in mehrsprachigen Klassen an.
END:VEVENT
END:VCALENDAR