BEGIN:VCALENDAR
VERSION:2.0
PRODID:-//WP EVENT Manager Ical//NONSGML Events//EN
CALSCALE:GREGORIAN
BEGIN:VTIMEZONE
TZID:Asia/Kolkata
BEGIN:STANDARD
DTSTART:19700101T000000
TZOFFSETFROM:+0530
TZOFFSETTO:+0530
END:STANDARD
END:VTIMEZONE
BEGIN:VEVENT
UID:69e5c6198c956@www.biss-akademie.nrw
DTSTAMP:20260420T062217Z
DTSTART;TZID=Asia/Kolkata:20250924T090000
DTEND;TZID=Asia/Kolkata:20260630T072441
LOCATION:Unperfekthaus, Friedrich-Ebert-Straße 18-20, 45127 Essen
SUMMARY:Kurs: Sprachsensible Schulentwicklung durch Sprachbildung
DESCRIPTION:Ein ganzheitlicher und fächerverbindender Ansatz zum projektbezogenen Lernen in der SekundarstufeDer Kurs beginnt am 24.09.2025 (9 -16 Uhr) im Unperfekthaus in Essen (Friedrich-Ebert-Straße 18-20, 45127 Essen).Weitere Informationen zum Kurs finden Sie hier.Hier können Sie sich für das Kursangebot anmelden.
END:VEVENT
END:VCALENDAR