BEGIN:VCALENDAR
VERSION:2.0
PRODID:-//WP EVENT Manager Ical//NONSGML Events//EN
CALSCALE:GREGORIAN
BEGIN:VTIMEZONE
TZID:Asia/Kolkata
BEGIN:STANDARD
DTSTART:19700101T000000
TZOFFSETFROM:+0530
TZOFFSETTO:+0530
END:STANDARD
END:VTIMEZONE
BEGIN:VEVENT
UID:69eb479b49cbd@www.biss-akademie.nrw
DTSTAMP:20260424T103611Z
DTSTART;TZID=Asia/Kolkata:20250211T113000
DTEND;TZID=Asia/Kolkata:20250211T153000
LOCATION:Ricarda-Huch-Gymnasium in Gelsenkirchen, Schultestraße 50, Gelsenkirchen
SUMMARY:Kinder stark machen Durchgängige (Sprach-)Bildung in Mathematik
DESCRIPTION:Bridging the Gap: Die Schnittstelle von der Primar- in die Sekundarstufe in Mathe neu gestaltenWir beschäftigen uns mit der Fokussierung auf die typischen Stolperstellen des Verstehens von Mathematikinhalten in Klasse 5, die die absolute Grundlage für ein Verständnis der mathematischen Inhalte in der Sekundarstufe bilden.Neben der praxisnahen Frage: „Wie soll ich das noch alles unterbringen?“haben wir viel an unserer Haltung zum Mathematiklehren und -lernen zu Beginn der Sekundarstufe I gearbeitet und gelernt. Die fokussierten Verstehensgrundlagen würden wir gerne vorstellen, mit euch/Ihnen erarbeiten und gemeinsam überlegen, wie wir die fachlichen Anforderungen an den Unterricht mit denen des Systems übereinbringen könnten.
END:VEVENT
END:VCALENDAR