BEGIN:VCALENDAR
VERSION:2.0
PRODID:-//WP EVENT Manager Ical//NONSGML Events//EN
CALSCALE:GREGORIAN
BEGIN:VTIMEZONE
TZID:Asia/Kolkata
BEGIN:STANDARD
DTSTART:19700101T000000
TZOFFSETFROM:+0530
TZOFFSETTO:+0530
END:STANDARD
END:VTIMEZONE
BEGIN:VEVENT
UID:69e6225d2db67@www.biss-akademie.nrw
DTSTAMP:20260420T125557Z
DTSTART;TZID=Asia/Kolkata:20250109T143000
DTEND;TZID=Asia/Kolkata:20250109T160000
LOCATION:Online
SUMMARY:Impulsveranstaltung „Lesestrategien“ für Transferlehrkräfte im Schultransfernetzwerk 5
DESCRIPTION:Wie kann die Lesekompetenz in Bezug auf das Textverstehen der Schülerinnen und Schüler auf der Grundlage einer gut entwickelten Leseflüssigkeit weiter gefördert werden?Wie gelingt es systematisch Lesestrategien im Unterricht zu vermitteln und zu trainieren?Im Rahmen dieser Impulsveranstaltung stellen wir Ihnen den neuen Blended-Learning-Qualifizierungskurs „Förderung der Lesekompetenz durch Lesestrategien“ vor.Im Anschluss können Fragen und Perspektiven zur Weiterentwicklung der Leseförderaktivitäten Ihrer Schule diskutiert werden.
END:VEVENT
END:VCALENDAR