BEGIN:VCALENDAR
VERSION:2.0
PRODID:-//WP EVENT Manager Ical//NONSGML Events//EN
CALSCALE:GREGORIAN
BEGIN:VTIMEZONE
TZID:Asia/Kolkata
BEGIN:STANDARD
DTSTART:19700101T000000
TZOFFSETFROM:+0530
TZOFFSETTO:+0530
END:STANDARD
END:VTIMEZONE
BEGIN:VEVENT
UID:69e8a14098225@www.biss-akademie.nrw
DTSTAMP:20260422T102152Z
DTSTART;TZID=Asia/Kolkata:20250318T094500
DTEND;TZID=Asia/Kolkata:20250318T114500
LOCATION:Hauptschule Herbertskaul, Kapfenberger Straße, Frechen
SUMMARY:Hospitation einer Unterrichtstunde mit „Schrittweise Deutsch“
DESCRIPTION:Im Mittelpunkt des Treffens im Rahmen von „Schrittweise Deutsch“ im Raum Köln/Bonn steht die Hospitation in einer DaZ-Lerngruppe an einer Hauptschule, die mit „Schrittweise Deutsch“ arbeitet. Dies gibt Anlass zum Austausch eigener Unterrichtserfahrungen in vergleichbaren Lerngruppen und weiteren Anregungen für die Arbeit mit dem Sprachkoffer.09:45 – 10:05 Ankommen10:05 – 10:50 Hospitationsstunde in Raum 22210:50 – 11:35 Informationen zur Schule, Informationen zur Lerngruppe, Nachbesprechung, AustauschFalls Sie noch nicht bei uns registriert sind, melden Sie sich gern einfach per Mail an: info.schrittweise@bra.nrw.de 
END:VEVENT
END:VCALENDAR