BEGIN:VCALENDAR
VERSION:2.0
PRODID:-//WP EVENT Manager Ical//NONSGML Events//EN
CALSCALE:GREGORIAN
BEGIN:VTIMEZONE
TZID:Asia/Kolkata
BEGIN:STANDARD
DTSTART:19700101T000000
TZOFFSETFROM:+0530
TZOFFSETTO:+0530
END:STANDARD
END:VTIMEZONE
BEGIN:VEVENT
UID:69e8a15467551@www.biss-akademie.nrw
DTSTAMP:20260422T102212Z
DTSTART;TZID=Asia/Kolkata:20250410T100000
DTEND;TZID=Asia/Kolkata:20250410T124500
LOCATION:Overbergschule Warendorf, Barentiner Str. 8, 48231 Warendorf, Regierungsbezirk Münster
SUMMARY:Hospitation einer Unterrichtstunde mit „Schrittweise Deutsch“
DESCRIPTION:Im Mittelpunkt des Treffens im Rahmen von „Schrittweise Deutsch“ im Raum Münster steht die Hospitation in einer Erstförder-Lerngruppe an einer Grundschule, die mit „Schrittweise Deutsch“ arbeitet. Dies gibt Anlass zum Austausch eigener Unterrichtserfahrungen in vergleichbaren Lerngruppen und weiteren Anregungen für die Arbeit mit dem Sprachkoffer.10:00–10:15       Ankommen10:15–10:45       Begrüßung, Informationen zur Schule, Informationen zur Lerngruppe10:45–10:50      kurze Pause10:50–11:35       Hospitation11:35–12:00       Nachbesprechung Hospitation12:00–12:45       Austausch zur Arbeit, Fragerunde, Ausblick und AbschlussWenn Sie noch nicht bei uns registriert sind, melden Sie sich gern per Mail an: info.schrittweise@bra.nrw.de&nbsp;
END:VEVENT
END:VCALENDAR