BEGIN:VCALENDAR
VERSION:2.0
PRODID:-//WP EVENT Manager Ical//NONSGML Events//EN
CALSCALE:GREGORIAN
BEGIN:VTIMEZONE
TZID:Asia/Kolkata
BEGIN:STANDARD
DTSTART:19700101T000000
TZOFFSETFROM:+0530
TZOFFSETTO:+0530
END:STANDARD
END:VTIMEZONE
BEGIN:VEVENT
UID:69eb2c2b5d8ee@www.biss-akademie.nrw
DTSTAMP:20260424T083907Z
DTSTART;TZID=Asia/Kolkata:20220203T090000
DTEND;TZID=Asia/Kolkata:20220203T120000
LOCATION:Landwehrschule Oberhausen - Städt. Gem. Grundschule, Rechenacker, Oberhausen
SUMMARY:Förderung der Leseflüssigkeit mit dem Lesetandem
DESCRIPTION:Im Workshop erhalten Sie einen ersten Einblick in die Methode des Lesetandems. Auf der Grundlage des lesedidaktischen Modells von Rosebrock/Nix beschäftigen Sie sich mit der Diagnostik (Lautleseprotokolle), dem Ablauf des Trainings in den Klassen und gehen der Frage nach, wie passende Texte für das Training ausgewählt werden können.&nbsp;
END:VEVENT
END:VCALENDAR