BEGIN:VCALENDAR
VERSION:2.0
PRODID:-//WP EVENT Manager Ical//NONSGML Events//EN
CALSCALE:GREGORIAN
BEGIN:VTIMEZONE
TZID:Asia/Kolkata
BEGIN:STANDARD
DTSTART:19700101T000000
TZOFFSETFROM:+0530
TZOFFSETTO:+0530
END:STANDARD
END:VTIMEZONE
BEGIN:VEVENT
UID:69e5e38dd4ede@www.biss-akademie.nrw
DTSTAMP:20260420T082757Z
DTSTART;TZID=Asia/Kolkata:20220511T153000
DTEND;TZID=Asia/Kolkata:20220511T170000
LOCATION:Online
SUMMARY:Austausch und Reflexion
DESCRIPTION:Schwerpunkt dieses Unterstützungsangebotes ist die Erarbeitung möglicher Implementierungsschritte des DemeK-Konzeptes in den einzelnen Schulen durch die Teilnehmer. Abschließend werden die Teilnehmenden gebeten die vergangenen Unterstützungsangebote aus den Netzwerken 8.1 und 8.2 zu evaluieren.
END:VEVENT
END:VCALENDAR