BEGIN:VCALENDAR
VERSION:2.0
PRODID:-//WP EVENT Manager Ical//NONSGML Events//EN
CALSCALE:GREGORIAN
BEGIN:VTIMEZONE
TZID:Asia/Kolkata
BEGIN:STANDARD
DTSTART:19700101T000000
TZOFFSETFROM:+0530
TZOFFSETTO:+0530
END:STANDARD
END:VTIMEZONE
BEGIN:VEVENT
UID:69eb507d13f7b@www.biss-akademie.nrw
DTSTAMP:20260424T111405Z
DTSTART;TZID=Asia/Kolkata:20241106T090000
DTEND;TZID=Asia/Kolkata:20241106T160000
LOCATION:Willy-Brandt-Gesamtschule, Im Weidenbruch 214, Köln Höhenhaus, Raum B202
SUMMARY:Erstes Netzwerktreffen im Schuljahr 2024/25
DESCRIPTION:Ressourcen im Blick:Wie können wir effizient und effektiv Sprachbildung in den alltäglichen Mathematikunterricht integrieren?Dieser Frage gehen wir nach, indem wir theoretische Grundlagen mit den Erfahrungen aus der Praxis abgleichen und daraus Ideen für eine sprachsensible Ritualisierung des Unterrichts entwickeln. Unterrichtshospitationen liefern eine Grundlage für den Austausch.
END:VEVENT
END:VCALENDAR