BEGIN:VCALENDAR
VERSION:2.0
PRODID:-//WP EVENT Manager Ical//NONSGML Events//EN
CALSCALE:GREGORIAN
BEGIN:VTIMEZONE
TZID:Asia/Kolkata
BEGIN:STANDARD
DTSTART:19700101T000000
TZOFFSETFROM:+0530
TZOFFSETTO:+0530
END:STANDARD
END:VTIMEZONE
BEGIN:VEVENT
UID:69e5f3c526624@www.biss-akademie.nrw
DTSTAMP:20260420T093709Z
DTSTART;TZID=Asia/Kolkata:20211001T090000
DTEND;TZID=Asia/Kolkata:20211001T130000
LOCATION:Angabe folgt
SUMMARY:Ergebnisse aus der Implementationsaufgabe.  Virtuelle Hospitationen, wenn keine Hospitationen im Präsenz möglich sind. Austausch.  Evaluation und Feedback des Unterstützungsangebotes
DESCRIPTION:Der Workshop schließt an die Angebote zur Sensibilisierung und zur Einführung an. Im Mittelpunkt stehen Berichte aus den Transferschulen.Wenn eine Hospitation in Präsenz möglich ist, soll ein anschließender Reflexions-Austausch im Schultransfernetzwerk erfolgen.Wenn keine Hospitation möglich ist, werden Videos aus BiSS I mit anschließendem Reflexions-Austausch im Schultransfernetzwerk angeboten.Ort, Datum und Zeit des Angebots werden noch spezifiziert.&nbsp;
END:VEVENT
END:VCALENDAR