BEGIN:VCALENDAR
VERSION:2.0
PRODID:-//WP EVENT Manager Ical//NONSGML Events//EN
CALSCALE:GREGORIAN
BEGIN:VTIMEZONE
TZID:Asia/Kolkata
BEGIN:STANDARD
DTSTART:19700101T000000
TZOFFSETFROM:+0530
TZOFFSETTO:+0530
END:STANDARD
END:VTIMEZONE
BEGIN:VEVENT
UID:69eb2f5cd3536@www.biss-akademie.nrw
DTSTAMP:20260424T085244Z
DTSTART;TZID=Asia/Kolkata:20251029T140000
DTEND;TZID=Asia/Kolkata:20251029T153000
LOCATION:Online
SUMMARY:Einführungsveranstaltung zu den Lupenstellen
DESCRIPTION:Wer Schülerinnen und Schüler unterrichtet, kennt die Herausforderung, auf Schwierigkeiten der Schülerinnen und Schüler in der korrekten Verwendung grammatischer Hürden angemessen und wertschätzend zu reagieren.Als „Lupenstellen“ werden diese besonderen grammatischen Phänomene bezeichnet, die zentrale Bereiche der deutschen Grammatik darstellen. Dazu gehört die korrekte Verwendung der Artikel, des Kasus bei Nomen und Adjektiven, der Pluralformen, der trennbaren und untrennbaren Verben, der Komposita und der Präpositionen.Das wissenschaftlich fundierte Qualifizierungsangebot und Materialpaket „Lupenstellen“ bietet mit seinen handlungs- und produktionsorientierten Ideen mannigfaltige Fördermöglichkeiten für Schülerinnen und Schüler der Primarstufe und der Erprobungsstufe. Es minimiert nicht nur den eigenen Zeitaufwand für das Zusammenstellen geeigneter Übungsmaterialien, es sorgt auch für eine korrekte und sichere Verwendung grammatischer Termini im Unterricht.Die Auftaktveranstaltung „Lupenstellen“ bietet eine Gelegenheit, sich über das Netzwerk „Lupenstellen“ zu informieren.Weitere Informationen finden Sie unter folgendem Link https://www.biss-akademie.nrw/s-g-lupenstellen/&nbsp;Melden Sie sich bitte hier an.&nbsp;
END:VEVENT
END:VCALENDAR