BEGIN:VCALENDAR
VERSION:2.0
PRODID:-//WP EVENT Manager Ical//NONSGML Events//EN
CALSCALE:GREGORIAN
BEGIN:VTIMEZONE
TZID:Asia/Kolkata
BEGIN:STANDARD
DTSTART:19700101T000000
TZOFFSETFROM:+0530
TZOFFSETTO:+0530
END:STANDARD
END:VTIMEZONE
BEGIN:VEVENT
UID:69e5f3abe9d31@www.biss-akademie.nrw
DTSTAMP:20260420T093643Z
DTSTART;TZID=Asia/Kolkata:20211001T150000
DTEND;TZID=Asia/Kolkata:20211001T170000
LOCATION:Angabe folgt
SUMMARY:Einführung in das Translanguaging: Phasen und Verlaufsplan in der Methode “Mehrsprachiges Reziprokes Lesen”
DESCRIPTION:Der Workshop schließt an den Workshop zur Sensibilisierung an und klärt Grundlagen des Translanguagings. Er bietet Möglichkeiten zur Umsetzung von Translanguaging im Rahmen des Reziproken Lesens an und stellt Möglichkeiten zur praxisnahen Nutzung für die Schülerinnen und Schüler dar.Ort, Datum und Zeit des Angebots werden noch spezifiziert.&nbsp;
END:VEVENT
END:VCALENDAR